Package: hgu133plus2CellScore Version: 1.29.0 Command: /home/biocbuild/bbs-3.22-bioc/R/bin/R CMD INSTALL hgu133plus2CellScore StartedAt: 2025-07-08 10:56:38 -0400 (Tue, 08 Jul 2025) EndedAt: 2025-07-08 10:56:59 -0400 (Tue, 08 Jul 2025) EllapsedTime: 21.8 seconds RetCode: 0 Status: OK