Package: hgu133plus2barcodevecs Version: 1.47.0 Command: /home/biocbuild/bbs-3.22-bioc/R/bin/R CMD build --keep-empty-dirs --no-resave-data hgu133plus2barcodevecs StartedAt: 2025-07-15 11:23:11 -0400 (Tue, 15 Jul 2025) EndedAt: 2025-07-15 11:23:13 -0400 (Tue, 15 Jul 2025) EllapsedTime: 1.3 seconds RetCode: 0 Status: OK PackageFile: hgu133plus2barcodevecs_1.47.0.tar.gz PackageFileSize: 1.209 MiB