Package: hgu133plus2barcodevecs Version: 1.47.0 Command: /home/biocbuild/bbs-3.22-bioc/R/bin/R CMD INSTALL hgu133plus2barcodevecs StartedAt: 2025-07-15 10:55:35 -0400 (Tue, 15 Jul 2025) EndedAt: 2025-07-15 10:55:36 -0400 (Tue, 15 Jul 2025) EllapsedTime: 1.4 seconds RetCode: 0 Status: OK