Package: homosapienDEE2CellScore Version: 1.7.0 Command: /home/biocbuild/bbs-3.23-bioc/R/bin/R CMD INSTALL homosapienDEE2CellScore StartedAt: 2025-11-04 11:00:15 -0500 (Tue, 04 Nov 2025) EndedAt: 2025-11-04 11:00:45 -0500 (Tue, 04 Nov 2025) EllapsedTime: 29.2 seconds RetCode: 0 Status: OK