Package: homosapienDEE2CellScore Version: 1.5.0 Command: /home/biocbuild/bbs-3.22-bioc/R/bin/R CMD build --keep-empty-dirs --no-resave-data homosapienDEE2CellScore StartedAt: 2025-07-08 11:24:07 -0400 (Tue, 08 Jul 2025) EndedAt: 2025-07-08 11:27:17 -0400 (Tue, 08 Jul 2025) EllapsedTime: 190.6 seconds RetCode: 0 Status: OK PackageFile: homosapienDEE2CellScore_1.5.0.tar.gz PackageFileSize: 256.8 KiB