Package: homosapienDEE2CellScore Version: 1.5.0 Command: /home/biocbuild/bbs-3.22-bioc/R/bin/R CMD INSTALL homosapienDEE2CellScore StartedAt: 2025-07-08 11:00:04 -0400 (Tue, 08 Jul 2025) EndedAt: 2025-07-08 11:00:31 -0400 (Tue, 08 Jul 2025) EllapsedTime: 27.6 seconds RetCode: 0 Status: OK