Package: humanHippocampus2024 Version: 1.3.0 Command: /home/biocbuild/bbs-3.23-bioc/R/bin/R CMD build --keep-empty-dirs --no-resave-data humanHippocampus2024 StartedAt: 2025-11-20 11:25:46 -0500 (Thu, 20 Nov 2025) EndedAt: 2025-11-20 11:31:19 -0500 (Thu, 20 Nov 2025) EllapsedTime: 333.3 seconds RetCode: 0 Status: OK PackageFile: humanHippocampus2024_1.3.0.tar.gz PackageFileSize: 1.041 MiB