Package: humanHippocampus2024 Version: 1.3.0 Command: /home/biocbuild/bbs-3.23-bioc/R/bin/R CMD INSTALL humanHippocampus2024 StartedAt: 2025-11-20 10:59:29 -0500 (Thu, 20 Nov 2025) EndedAt: 2025-11-20 10:59:52 -0500 (Thu, 20 Nov 2025) EllapsedTime: 22.6 seconds RetCode: 0 Status: OK