Package: humanHippocampus2024 Version: 1.1.0 Command: /home/biocbuild/bbs-3.22-bioc/R/bin/R CMD build --keep-empty-dirs --no-resave-data humanHippocampus2024 StartedAt: 2025-07-10 11:25:24 -0400 (Thu, 10 Jul 2025) EndedAt: 2025-07-10 11:31:00 -0400 (Thu, 10 Jul 2025) EllapsedTime: 335.4 seconds RetCode: 0 Status: OK PackageFile: humanHippocampus2024_1.1.0.tar.gz PackageFileSize: 1.041 MiB