Package: humanStemCell Version: 0.49.0 Command: /home/biocbuild/bbs-3.22-bioc/R/bin/R CMD build --keep-empty-dirs --no-resave-data humanStemCell StartedAt: 2025-07-10 11:25:28 -0400 (Thu, 10 Jul 2025) EndedAt: 2025-07-10 11:26:32 -0400 (Thu, 10 Jul 2025) EllapsedTime: 63.9 seconds RetCode: 0 Status: OK PackageFile: humanStemCell_0.49.0.tar.gz PackageFileSize: 30.64 MiB