Package: humanStemCell Version: 0.49.0 Command: /home/biocbuild/bbs-3.22-bioc/R/bin/R CMD INSTALL humanStemCell StartedAt: 2025-07-10 10:57:09 -0400 (Thu, 10 Jul 2025) EndedAt: 2025-07-10 10:57:18 -0400 (Thu, 10 Jul 2025) EllapsedTime: 8.8 seconds RetCode: 0 Status: OK