Package: iModMixData Version: 1.1.0 Command: /home/biocbuild/bbs-3.23-bioc/R/bin/R CMD INSTALL iModMixData StartedAt: 2025-11-04 10:57:39 -0500 (Tue, 04 Nov 2025) EndedAt: 2025-11-04 10:57:41 -0500 (Tue, 04 Nov 2025) EllapsedTime: 2.2 seconds RetCode: 0 Status: OK