Package: imcdatasets Version: 1.19.0 Command: /home/biocbuild/bbs-3.23-bioc/R/bin/R CMD check --install=check:imcdatasets.install-out.txt --library=/home/biocbuild/bbs-3.23-bioc/R/site-library --timings imcdatasets_1.19.0.tar.gz StartedAt: 2025-11-06 12:30:39 -0500 (Thu, 06 Nov 2025) EndedAt: 2025-11-06 12:46:17 -0500 (Thu, 06 Nov 2025) EllapsedTime: 938.2 seconds RetCode: 0 Status: OK CheckDir: imcdatasets.Rcheck Warnings: 0