Package: imcdatasets Version: 1.17.0 Command: /home/biocbuild/bbs-3.22-bioc/R/bin/R CMD INSTALL imcdatasets StartedAt: 2025-07-08 10:59:33 -0400 (Tue, 08 Jul 2025) EndedAt: 2025-07-08 11:00:24 -0400 (Tue, 08 Jul 2025) EllapsedTime: 50.4 seconds RetCode: 0 Status: OK