Package: kidpack Version: 1.53.0 Command: /home/biocbuild/bbs-3.23-bioc/R/bin/R CMD INSTALL kidpack StartedAt: 2025-11-20 10:56:15 -0500 (Thu, 20 Nov 2025) EndedAt: 2025-11-20 10:56:20 -0500 (Thu, 20 Nov 2025) EllapsedTime: 5.8 seconds RetCode: 0 Status: OK