Package: kidpack Version: 1.51.0 Command: /home/biocbuild/bbs-3.22-bioc/R/bin/R CMD INSTALL kidpack StartedAt: 2025-07-10 10:56:09 -0400 (Thu, 10 Jul 2025) EndedAt: 2025-07-10 10:56:13 -0400 (Thu, 10 Jul 2025) EllapsedTime: 4.3 seconds RetCode: 0 Status: OK