Package: leeBamViews Version: 1.47.0 Command: /home/biocbuild/bbs-3.23-bioc/R/bin/R CMD INSTALL leeBamViews StartedAt: 2025-11-06 11:00:59 -0500 (Thu, 06 Nov 2025) EndedAt: 2025-11-06 11:01:28 -0500 (Thu, 06 Nov 2025) EllapsedTime: 28.7 seconds RetCode: 0 Status: OK