Package: leeBamViews Version: 1.45.0 Command: /home/biocbuild/bbs-3.22-bioc/R/bin/R CMD build --keep-empty-dirs --no-resave-data leeBamViews StartedAt: 2025-07-08 11:26:03 -0400 (Tue, 08 Jul 2025) EndedAt: 2025-07-08 11:27:01 -0400 (Tue, 08 Jul 2025) EllapsedTime: 57.5 seconds RetCode: 0 Status: OK PackageFile: leeBamViews_1.45.0.tar.gz PackageFileSize: 11.05 MiB