Package: leeBamViews Version: 1.45.0 Command: /home/biocbuild/bbs-3.22-bioc/R/bin/R CMD INSTALL leeBamViews StartedAt: 2025-07-08 11:00:57 -0400 (Tue, 08 Jul 2025) EndedAt: 2025-07-08 11:01:25 -0400 (Tue, 08 Jul 2025) EllapsedTime: 28.0 seconds RetCode: 0 Status: OK