Package: leukemiasEset Version: 1.45.0 Command: /home/biocbuild/bbs-3.22-bioc/R/bin/R CMD build --keep-empty-dirs --no-resave-data leukemiasEset StartedAt: 2025-07-15 11:26:33 -0400 (Tue, 15 Jul 2025) EndedAt: 2025-07-15 11:26:34 -0400 (Tue, 15 Jul 2025) EllapsedTime: 1.3 seconds RetCode: 0 Status: OK PackageFile: leukemiasEset_1.45.0.tar.gz PackageFileSize: 8.717 MiB