Package: lungExpression Version: 0.47.0 Command: /home/biocbuild/bbs-3.22-bioc/R/bin/R CMD INSTALL lungExpression StartedAt: 2025-07-08 10:56:08 -0400 (Tue, 08 Jul 2025) EndedAt: 2025-07-08 10:56:10 -0400 (Tue, 08 Jul 2025) EllapsedTime: 1.8 seconds RetCode: 0 Status: OK