Package: lydata Version: 1.35.0 Command: /home/biocbuild/bbs-3.22-bioc/R/bin/R CMD build --keep-empty-dirs --no-resave-data lydata StartedAt: 2025-07-10 11:28:22 -0400 (Thu, 10 Jul 2025) EndedAt: 2025-07-10 11:31:05 -0400 (Thu, 10 Jul 2025) EllapsedTime: 163.3 seconds RetCode: 0 Status: OK PackageFile: lydata_1.35.0.tar.gz PackageFileSize: 158.9 MiB