Package: macrophage Version: 1.25.0 Command: /home/biocbuild/bbs-3.22-bioc/R/bin/R CMD build --keep-empty-dirs --no-resave-data macrophage StartedAt: 2025-07-17 11:27:20 -0400 (Thu, 17 Jul 2025) EndedAt: 2025-07-17 11:27:55 -0400 (Thu, 17 Jul 2025) EllapsedTime: 35.5 seconds RetCode: 0 Status: OK PackageFile: macrophage_1.25.0.tar.gz PackageFileSize: 511.4 MiB