Package: mammaPrintData Version: 1.45.0 Command: /home/biocbuild/bbs-3.22-bioc/R/bin/R CMD build --keep-empty-dirs --no-resave-data mammaPrintData StartedAt: 2025-07-17 11:27:30 -0400 (Thu, 17 Jul 2025) EndedAt: 2025-07-17 11:28:42 -0400 (Thu, 17 Jul 2025) EllapsedTime: 71.5 seconds RetCode: 0 Status: OK PackageFile: mammaPrintData_1.45.0.tar.gz PackageFileSize: 214.2 MiB