Package: mammaPrintData Version: 1.45.0 Command: /home/biocbuild/bbs-3.22-bioc/R/bin/R CMD INSTALL mammaPrintData StartedAt: 2025-07-17 10:55:40 -0400 (Thu, 17 Jul 2025) EndedAt: 2025-07-17 10:55:45 -0400 (Thu, 17 Jul 2025) EllapsedTime: 5.4 seconds RetCode: 0 Status: OK