Package: maqcExpression4plex Version: 1.55.0 Command: /home/biocbuild/bbs-3.23-bioc/R/bin/R CMD INSTALL maqcExpression4plex StartedAt: 2025-11-06 10:55:24 -0500 (Thu, 06 Nov 2025) EndedAt: 2025-11-06 10:55:26 -0500 (Thu, 06 Nov 2025) EllapsedTime: 2.2 seconds RetCode: 0 Status: OK