Package: maqcExpression4plex Version: 1.53.0 Command: /home/biocbuild/bbs-3.22-bioc/R/bin/R CMD build --keep-empty-dirs --no-resave-data maqcExpression4plex StartedAt: 2025-07-08 11:27:28 -0400 (Tue, 08 Jul 2025) EndedAt: 2025-07-08 11:27:33 -0400 (Tue, 08 Jul 2025) EllapsedTime: 5.0 seconds RetCode: 0 Status: OK PackageFile: maqcExpression4plex_1.53.0.tar.gz PackageFileSize: 6.578 MiB