Package: marinerData Version: 1.9.0 Command: /home/biocbuild/bbs-3.22-bioc/R/bin/R CMD build --keep-empty-dirs --no-resave-data marinerData StartedAt: 2025-07-10 11:28:42 -0400 (Thu, 10 Jul 2025) EndedAt: 2025-07-10 11:29:20 -0400 (Thu, 10 Jul 2025) EllapsedTime: 37.4 seconds RetCode: 0 Status: OK PackageFile: marinerData_1.9.0.tar.gz PackageFileSize: 217.7 KiB