Package: marinerData Version: 1.9.0 Command: /home/biocbuild/bbs-3.22-bioc/R/bin/R CMD INSTALL marinerData StartedAt: 2025-07-10 10:56:47 -0400 (Thu, 10 Jul 2025) EndedAt: 2025-07-10 10:57:00 -0400 (Thu, 10 Jul 2025) EllapsedTime: 13.3 seconds RetCode: 0 Status: OK