Package: mcsurvdata Version: 1.27.0 Command: /home/biocbuild/bbs-3.22-bioc/R/bin/R CMD build --keep-empty-dirs --no-resave-data mcsurvdata StartedAt: 2025-07-10 11:29:09 -0400 (Thu, 10 Jul 2025) EndedAt: 2025-07-10 11:29:37 -0400 (Thu, 10 Jul 2025) EllapsedTime: 27.5 seconds RetCode: 0 Status: OK PackageFile: mcsurvdata_1.27.0.tar.gz PackageFileSize: 229.5 KiB