Package: mcsurvdata Version: 1.27.0 Command: /home/biocbuild/bbs-3.22-bioc/R/bin/R CMD INSTALL mcsurvdata StartedAt: 2025-07-10 10:56:38 -0400 (Thu, 10 Jul 2025) EndedAt: 2025-07-10 10:56:48 -0400 (Thu, 10 Jul 2025) EllapsedTime: 10.2 seconds RetCode: 0 Status: OK