Package: metaMSdata Version: 1.45.0 Command: /home/biocbuild/bbs-3.22-bioc/R/bin/R CMD build --keep-empty-dirs --no-resave-data metaMSdata StartedAt: 2025-07-10 11:30:02 -0400 (Thu, 10 Jul 2025) EndedAt: 2025-07-10 11:35:08 -0400 (Thu, 10 Jul 2025) EllapsedTime: 306.1 seconds RetCode: 0 Status: OK PackageFile: metaMSdata_1.45.0.tar.gz PackageFileSize: 121.9 MiB