Package: methylclockData Version: 1.19.0 Command: /home/biocbuild/bbs-3.23-bioc/R/bin/R CMD INSTALL methylclockData StartedAt: 2025-11-04 11:03:30 -0500 (Tue, 04 Nov 2025) EndedAt: 2025-11-04 11:04:08 -0500 (Tue, 04 Nov 2025) EllapsedTime: 38.0 seconds RetCode: 0 Status: OK