Package: methylclockData Version: 1.17.0 Command: /home/biocbuild/bbs-3.22-bioc/R/bin/R CMD build --keep-empty-dirs --no-resave-data methylclockData StartedAt: 2025-07-08 11:29:22 -0400 (Tue, 08 Jul 2025) EndedAt: 2025-07-08 11:30:35 -0400 (Tue, 08 Jul 2025) EllapsedTime: 73.5 seconds RetCode: 0 Status: OK PackageFile: methylclockData_1.17.0.tar.gz PackageFileSize: 230.6 KiB