Package: methylclockData Version: 1.17.0 Command: /home/biocbuild/bbs-3.22-bioc/R/bin/R CMD INSTALL methylclockData StartedAt: 2025-07-08 11:03:15 -0400 (Tue, 08 Jul 2025) EndedAt: 2025-07-08 11:03:53 -0400 (Tue, 08 Jul 2025) EllapsedTime: 37.5 seconds RetCode: 0 Status: OK