Package: miRNATarget Version: 1.47.0 Command: /home/biocbuild/bbs-3.22-bioc/R/bin/R CMD build --keep-empty-dirs --no-resave-data miRNATarget StartedAt: 2025-07-15 11:30:28 -0400 (Tue, 15 Jul 2025) EndedAt: 2025-07-15 11:30:39 -0400 (Tue, 15 Jul 2025) EllapsedTime: 11.2 seconds RetCode: 0 Status: OK PackageFile: miRNATarget_1.47.0.tar.gz PackageFileSize: 51.86 MiB