Package: miRNATarget Version: 1.47.0 Command: /home/biocbuild/bbs-3.22-bioc/R/bin/R CMD INSTALL miRNATarget StartedAt: 2025-07-15 10:56:16 -0400 (Tue, 15 Jul 2025) EndedAt: 2025-07-15 10:56:19 -0400 (Tue, 15 Jul 2025) EllapsedTime: 2.8 seconds RetCode: 0 Status: OK