Package: miRcompData Version: 1.41.0 Command: /home/biocbuild/bbs-3.23-bioc/R/bin/R CMD build --keep-empty-dirs --no-resave-data miRcompData StartedAt: 2025-10-30 11:27:49 -0400 (Thu, 30 Oct 2025) EndedAt: 2025-10-30 11:27:50 -0400 (Thu, 30 Oct 2025) EllapsedTime: 1.4 seconds RetCode: 0 Status: OK PackageFile: miRcompData_1.41.0.tar.gz PackageFileSize: 8.654 MiB