Package: miRcompData Version: 1.41.0 Command: /home/biocbuild/bbs-3.23-bioc/R/bin/R CMD INSTALL miRcompData StartedAt: 2025-10-30 10:55:17 -0400 (Thu, 30 Oct 2025) EndedAt: 2025-10-30 10:55:18 -0400 (Thu, 30 Oct 2025) EllapsedTime: 1.0 seconds RetCode: 0 Status: OK