Package: miRcompData Version: 1.39.0 Command: /home/biocbuild/bbs-3.22-bioc/R/bin/R CMD build --keep-empty-dirs --no-resave-data miRcompData StartedAt: 2025-07-08 11:30:10 -0400 (Tue, 08 Jul 2025) EndedAt: 2025-07-08 11:30:11 -0400 (Tue, 08 Jul 2025) EllapsedTime: 1.0 seconds RetCode: 0 Status: OK PackageFile: miRcompData_1.39.0.tar.gz PackageFileSize: 8.654 MiB