Package: microRNAome Version: 1.33.0 Command: /home/biocbuild/bbs-3.23-bioc/R/bin/R CMD INSTALL microRNAome StartedAt: 2025-11-20 10:59:40 -0500 (Thu, 20 Nov 2025) EndedAt: 2025-11-20 10:59:52 -0500 (Thu, 20 Nov 2025) EllapsedTime: 12.7 seconds RetCode: 0 Status: OK