Package: microRNAome Version: 1.31.0 Command: /home/biocbuild/bbs-3.22-bioc/R/bin/R CMD build --keep-empty-dirs --no-resave-data microRNAome StartedAt: 2025-07-10 11:31:04 -0400 (Thu, 10 Jul 2025) EndedAt: 2025-07-10 11:31:06 -0400 (Thu, 10 Jul 2025) EllapsedTime: 1.5 seconds RetCode: 0 Status: OK PackageFile: microRNAome_1.31.0.tar.gz PackageFileSize: 4.238 MiB