Package: microbiomeDataSets Version: 1.17.0 Command: /home/biocbuild/bbs-3.22-bioc/R/bin/R CMD build --keep-empty-dirs --no-resave-data microbiomeDataSets StartedAt: 2025-07-08 11:29:53 -0400 (Tue, 08 Jul 2025) EndedAt: 2025-07-08 11:30:37 -0400 (Tue, 08 Jul 2025) EllapsedTime: 43.2 seconds RetCode: 0 Status: OK PackageFile: microbiomeDataSets_1.17.0.tar.gz PackageFileSize: 234.9 KiB