Package: minfiData Version: 0.57.0 Command: /home/biocbuild/bbs-3.23-bioc/R/bin/R CMD INSTALL minfiData StartedAt: 2025-11-04 11:01:39 -0500 (Tue, 04 Nov 2025) EndedAt: 2025-11-04 11:02:21 -0500 (Tue, 04 Nov 2025) EllapsedTime: 41.6 seconds RetCode: 0 Status: OK