Package: minfiData Version: 0.55.0 Command: /home/biocbuild/bbs-3.22-bioc/R/bin/R CMD build --keep-empty-dirs --no-resave-data minfiData StartedAt: 2025-07-08 11:29:55 -0400 (Tue, 08 Jul 2025) EndedAt: 2025-07-08 11:30:08 -0400 (Tue, 08 Jul 2025) EllapsedTime: 12.3 seconds RetCode: 0 Status: OK PackageFile: minfiData_0.55.0.tar.gz PackageFileSize: 74.56 MiB