Package: minfiDataEPIC Version: 1.35.0 Command: /home/biocbuild/bbs-3.22-bioc/R/bin/R CMD INSTALL minfiDataEPIC StartedAt: 2025-07-08 11:01:51 -0400 (Tue, 08 Jul 2025) EndedAt: 2025-07-08 11:02:38 -0400 (Tue, 08 Jul 2025) EllapsedTime: 47.9 seconds RetCode: 0 Status: OK