Package: minionSummaryData Version: 1.41.0 Command: /home/biocbuild/bbs-3.23-bioc/R/bin/R CMD build --keep-empty-dirs --no-resave-data minionSummaryData StartedAt: 2025-11-06 11:30:43 -0500 (Thu, 06 Nov 2025) EndedAt: 2025-11-06 11:30:55 -0500 (Thu, 06 Nov 2025) EllapsedTime: 12.1 seconds RetCode: 0 Status: OK PackageFile: minionSummaryData_1.41.0.tar.gz PackageFileSize: 134.7 MiB