Package: minionSummaryData Version: 1.39.0 Command: /home/biocbuild/bbs-3.22-bioc/R/bin/R CMD build --keep-empty-dirs --no-resave-data minionSummaryData StartedAt: 2025-07-08 11:30:08 -0400 (Tue, 08 Jul 2025) EndedAt: 2025-07-08 11:30:20 -0400 (Tue, 08 Jul 2025) EllapsedTime: 11.7 seconds RetCode: 0 Status: OK PackageFile: minionSummaryData_1.39.0.tar.gz PackageFileSize: 134.7 MiB