Package: mosaicsExample Version: 1.47.0 Command: /home/biocbuild/bbs-3.22-bioc/R/bin/R CMD check --install=check:mosaicsExample.install-out.txt --library=/home/biocbuild/bbs-3.22-bioc/R/site-library --timings mosaicsExample_1.47.0.tar.gz StartedAt: 2025-07-10 12:43:05 -0400 (Thu, 10 Jul 2025) EndedAt: 2025-07-10 12:43:24 -0400 (Thu, 10 Jul 2025) EllapsedTime: 18.3 seconds RetCode: 0 Status: WARNINGS CheckDir: mosaicsExample.Rcheck Warnings: 1