Package: mouse4302barcodevecs Version: 1.47.0 Command: /home/biocbuild/bbs-3.22-bioc/R/bin/R CMD build --keep-empty-dirs --no-resave-data mouse4302barcodevecs StartedAt: 2025-07-10 11:31:44 -0400 (Thu, 10 Jul 2025) EndedAt: 2025-07-10 11:31:45 -0400 (Thu, 10 Jul 2025) EllapsedTime: 1.3 seconds RetCode: 0 Status: OK PackageFile: mouse4302barcodevecs_1.47.0.tar.gz PackageFileSize: 1021 KiB